BEGIN:VCALENDAR
VERSION:2.0
PRODID:-//TYPO3/NONSGML Calendarize//EN
BEGIN:VEVENT
UID:calendarize-einweihung-probelokal
DTSTAMP:20260424T140341Z
DTSTART:20240908T073000Z
DTEND:20240908T130000Z
SUMMARY:Einweihung Probelokal
DESCRIPTION:
X-ALT-DESC;FMTTYPE=text/html:
LOCATION:
END:VEVENT
END:VCALENDAR
